BEGIN:VCALENDAR
VERSION:2.0
PRODID:-//pretix//pretix.eu//
BEGIN:VTIMEZONE
TZID:Europe/Berlin
BEGIN:STANDARD
DTSTART:20001029T040000
RRULE:FREQ=YEARLY;BYDAY=-1SU;BYMONTH=10
TZNAME:CET
TZOFFSETFROM:+0200
TZOFFSETTO:+0100
END:STANDARD
BEGIN:DAYLIGHT
DTSTART:20000326T030000
RRULE:FREQ=YEARLY;BYDAY=-1SU;BYMONTH=3
TZNAME:CEST
TZOFFSETFROM:+0100
TZOFFSETTO:+0200
END:DAYLIGHT
END:VTIMEZONE
BEGIN:VEVENT
UID:pretix-sg-otlm-fu-2-mannschaft-2512840@sg-otlm.vereinsticket.de
DTSTART;TZID=Europe/Berlin:20210829T143000
DTEND;TZID=Europe/Berlin:20210829T153000
DESCRIPTION:Tickets: https://sg-otlm.vereinsticket.de/fu-2-mannschaft/25128
 40/\nVeranstalter: SG Osburg/Thomm/Lorscheid/Morscheid
DTSTAMP:20260425T163627Z
LOCATION:Osburg\, Rasenplatz
SUMMARY:SG OTLM II - SG Gusenburg
END:VEVENT
END:VCALENDAR
